BEGIN:VCALENDAR
VERSION:2.0
PRODID:-//St. Joseph Retreat Center - ECPv6.15.20//NONSGML v1.0//EN
CALSCALE:GREGORIAN
METHOD:PUBLISH
X-ORIGINAL-URL:https://sjretreatcenter.org
X-WR-CALDESC:Events for St. Joseph Retreat Center
REFRESH-INTERVAL;VALUE=DURATION:PT1H
X-Robots-Tag:noindex
X-PUBLISHED-TTL:PT1H
BEGIN:VTIMEZONE
TZID:America/New_York
BEGIN:DAYLIGHT
TZOFFSETFROM:-0500
TZOFFSETTO:-0400
TZNAME:EDT
DTSTART:20240310T070000
END:DAYLIGHT
BEGIN:STANDARD
TZOFFSETFROM:-0400
TZOFFSETTO:-0500
TZNAME:EST
DTSTART:20241103T060000
END:STANDARD
BEGIN:DAYLIGHT
TZOFFSETFROM:-0500
TZOFFSETTO:-0400
TZNAME:EDT
DTSTART:20250309T070000
END:DAYLIGHT
BEGIN:STANDARD
TZOFFSETFROM:-0400
TZOFFSETTO:-0500
TZNAME:EST
DTSTART:20251102T060000
END:STANDARD
BEGIN:DAYLIGHT
TZOFFSETFROM:-0500
TZOFFSETTO:-0400
TZNAME:EDT
DTSTART:20260308T070000
END:DAYLIGHT
BEGIN:STANDARD
TZOFFSETFROM:-0400
TZOFFSETTO:-0500
TZNAME:EST
DTSTART:20261101T060000
END:STANDARD
END:VTIMEZONE
BEGIN:VEVENT
DTSTART;TZID=America/New_York:20250517T093000
DTEND;TZID=America/New_York:20250517T133000
DTSTAMP:20260423T051438
CREATED:20250414T232428Z
LAST-MODIFIED:20250414T232428Z
UID:10001025-1747474200-1747488600@sjretreatcenter.org
SUMMARY:"Mary - the World's Greatest Woman"
DESCRIPTION:Marian Retreat for Women:\nCome spend some quality time with Mary\, the world’s Greatest Woman\nSaturday\, May 17th Time: 9:30 AM – 1:30 PM \nFacilitated by Sister Dorothy Swartz\, SSD Fee: $60 per person – includes light lunch \nIn the military when a retreat command is ordered\, the dutiful soldier immediately turns around and goes in the opposite direction. This common military command serves to protect the soldiers and allows them the chance to regroup. \nIn a prayerful environment and through various forms of reflection\, we will examine the essence of true womanhood\, observe how Mary is the perfect woman and learn some practical ways to grow in our love and appreciation of Mary as our companion in daily life. \nWe encourage you to attend — Mary would love to spend the day with you. Don’t forget to invite a friend. \nPLEASE RSVP BY MONDAY\, MAY 12TH
URL:https://sjretreatcenter.org/event/mary-the-worlds-greatest-woman/
END:VEVENT
BEGIN:VEVENT
DTSTART;TZID=America/New_York:20250531T093000
DTEND;TZID=America/New_York:20250531T110000
DTSTAMP:20260423T051438
CREATED:20250530T180037Z
LAST-MODIFIED:20250530T184429Z
UID:10001026-1748683800-1748689200@sjretreatcenter.org
SUMMARY:Lectio Divina
DESCRIPTION:Saturdays: \nMay 31st – Honoring Mary \nJune 21 – For the Sacred Heart of Jesus \n\nFacilitated by Fran Tassone \n\n\nFee: $35 per person/per session\nTime: 9:30 – 11:00 AM \n\nLectio Divina is Latin for the divine reading of Scripture where we listen to God’s word “with the ears of our hearts\,” allowing God’s loving voice to speak to us and call us into deeper friendship. With this prayer practice of Lectio Divina\, together we will honor Mary and the Sacred Heart of Jesus seeing God in all things.
URL:https://sjretreatcenter.org/event/lectio-divina-2/2025-05-31/
END:VEVENT
END:VCALENDAR