BEGIN:VCALENDAR
VERSION:2.0
PRODID:-//St. Joseph Retreat Center - ECPv6.15.20//NONSGML v1.0//EN
CALSCALE:GREGORIAN
METHOD:PUBLISH
X-WR-CALNAME:St. Joseph Retreat Center
X-ORIGINAL-URL:https://sjretreatcenter.org
X-WR-CALDESC:Events for St. Joseph Retreat Center
REFRESH-INTERVAL;VALUE=DURATION:PT1H
X-Robots-Tag:noindex
X-PUBLISHED-TTL:PT1H
BEGIN:VTIMEZONE
TZID:America/New_York
BEGIN:DAYLIGHT
TZOFFSETFROM:-0500
TZOFFSETTO:-0400
TZNAME:EDT
DTSTART:20230312T070000
END:DAYLIGHT
BEGIN:STANDARD
TZOFFSETFROM:-0400
TZOFFSETTO:-0500
TZNAME:EST
DTSTART:20231105T060000
END:STANDARD
BEGIN:DAYLIGHT
TZOFFSETFROM:-0500
TZOFFSETTO:-0400
TZNAME:EDT
DTSTART:20240310T070000
END:DAYLIGHT
BEGIN:STANDARD
TZOFFSETFROM:-0400
TZOFFSETTO:-0500
TZNAME:EST
DTSTART:20241103T060000
END:STANDARD
BEGIN:DAYLIGHT
TZOFFSETFROM:-0500
TZOFFSETTO:-0400
TZNAME:EDT
DTSTART:20250309T070000
END:DAYLIGHT
BEGIN:STANDARD
TZOFFSETFROM:-0400
TZOFFSETTO:-0500
TZNAME:EST
DTSTART:20251102T060000
END:STANDARD
END:VTIMEZONE
BEGIN:VEVENT
DTSTART;TZID=America/New_York:20241204T133000
DTEND;TZID=America/New_York:20241204T153000
DTSTAMP:20260425T081355
CREATED:20241112T151327Z
LAST-MODIFIED:20241112T151327Z
UID:10000985-1733319000-1733326200@sjretreatcenter.org
SUMMARY:Slowing Down to the Speed of Christmas Joy
DESCRIPTION:Facilitated by Sister Dorothy Schwarz\, SSD Fee: $40 per person \nWe are all living in a recklessly fast-paced world. From the depths of our hearts\, the mantra “Too Busy” is screaming out\, and yet we continue to ignore its plea and create more and more excuses why we cannot set a different\, slower pace.
URL:https://sjretreatcenter.org/event/slowing-down-to-the-speed-of-christmas-joy/
END:VEVENT
BEGIN:VEVENT
DTSTART;TZID=America/New_York:20241207T183000
DTEND;TZID=America/New_York:20241207T203000
DTSTAMP:20260425T081355
CREATED:20241113T185848Z
LAST-MODIFIED:20241113T185848Z
UID:10000986-1733596200-1733603400@sjretreatcenter.org
SUMMARY:Advent Taize - Evening of Prayer
DESCRIPTION:Screenshot
URL:https://sjretreatcenter.org/event/advent-taize-evening-of-prayer/
END:VEVENT
BEGIN:VEVENT
DTSTART;TZID=America/New_York:20241221T093000
DTEND;TZID=America/New_York:20241221T110000
DTSTAMP:20260425T081355
CREATED:20241022T150647Z
LAST-MODIFIED:20241022T150647Z
UID:10000984-1734773400-1734778800@sjretreatcenter.org
SUMMARY:Holiday Series: "Contemplative Prayer with Lectio and Musica Divina"
DESCRIPTION:Saturdays — November 23rd & December 21st)\nTime: 9:30 – 11:00 AM\nFacilitated by Fran Tassone Fee: $35 per person/per session \nWe often hear the holiday season referred to as the “season of giving.” Consider giving yourself the gift of time set apart especially to do mothering else but rest in the arms of God through listening and reflecting together to poetry\, contemplative song and scripture. “For it is in giving that we receive” – St. Francis of Assisi \nPlease be in touch if you have any questions or would like to make a reservation.
URL:https://sjretreatcenter.org/event/holiday-series-contemplative-prayer-with-lectio-and-musica-divina/2024-12-21/
END:VEVENT
END:VCALENDAR