BEGIN:VCALENDAR
VERSION:2.0
PRODID:-//St. Joseph Retreat Center - ECPv6.15.20//NONSGML v1.0//EN
CALSCALE:GREGORIAN
METHOD:PUBLISH
X-WR-CALNAME:St. Joseph Retreat Center
X-ORIGINAL-URL:https://sjretreatcenter.org
X-WR-CALDESC:Events for St. Joseph Retreat Center
REFRESH-INTERVAL;VALUE=DURATION:PT1H
X-Robots-Tag:noindex
X-PUBLISHED-TTL:PT1H
BEGIN:VTIMEZONE
TZID:America/New_York
BEGIN:DAYLIGHT
TZOFFSETFROM:-0500
TZOFFSETTO:-0400
TZNAME:EDT
DTSTART:20230312T070000
END:DAYLIGHT
BEGIN:STANDARD
TZOFFSETFROM:-0400
TZOFFSETTO:-0500
TZNAME:EST
DTSTART:20231105T060000
END:STANDARD
BEGIN:DAYLIGHT
TZOFFSETFROM:-0500
TZOFFSETTO:-0400
TZNAME:EDT
DTSTART:20240310T070000
END:DAYLIGHT
BEGIN:STANDARD
TZOFFSETFROM:-0400
TZOFFSETTO:-0500
TZNAME:EST
DTSTART:20241103T060000
END:STANDARD
BEGIN:DAYLIGHT
TZOFFSETFROM:-0500
TZOFFSETTO:-0400
TZNAME:EDT
DTSTART:20250309T070000
END:DAYLIGHT
BEGIN:STANDARD
TZOFFSETFROM:-0400
TZOFFSETTO:-0500
TZNAME:EST
DTSTART:20251102T060000
END:STANDARD
END:VTIMEZONE
BEGIN:VEVENT
DTSTART;TZID=America/New_York:20241102T130000
DTEND;TZID=America/New_York:20241102T150000
DTSTAMP:20260425T094527
CREATED:20241022T150454Z
LAST-MODIFIED:20241022T150757Z
UID:10000982-1730552400-1730559600@sjretreatcenter.org
SUMMARY:The Measure of a Person
DESCRIPTION:Saturday\, November 2nd \nTime: 1:00 – 3:00 PM\nFacilitated by Patricia Stephens Fee: $40 per person \n” Have you ever wondered if you are pleasing to God? Do you measure up to what God knows you can become at any age or tome….Come and spend a prayerful afternoon with other believers and explore this topic.”
URL:https://sjretreatcenter.org/event/the-measure-of-a-person/
END:VEVENT
BEGIN:VEVENT
DTSTART;TZID=America/New_York:20241123T093000
DTEND;TZID=America/New_York:20241123T110000
DTSTAMP:20260425T094527
CREATED:20241022T150647Z
LAST-MODIFIED:20241022T150647Z
UID:10000983-1732354200-1732359600@sjretreatcenter.org
SUMMARY:Holiday Series: "Contemplative Prayer with Lectio and Musica Divina"
DESCRIPTION:Saturdays — November 23rd & December 21st)\nTime: 9:30 – 11:00 AM\nFacilitated by Fran Tassone Fee: $35 per person/per session \nWe often hear the holiday season referred to as the “season of giving.” Consider giving yourself the gift of time set apart especially to do mothering else but rest in the arms of God through listening and reflecting together to poetry\, contemplative song and scripture. “For it is in giving that we receive” – St. Francis of Assisi \nPlease be in touch if you have any questions or would like to make a reservation.
URL:https://sjretreatcenter.org/event/holiday-series-contemplative-prayer-with-lectio-and-musica-divina/2024-11-23/
END:VEVENT
END:VCALENDAR