BEGIN:VCALENDAR
VERSION:2.0
PRODID:-//St. Joseph Retreat Center - ECPv6.15.20//NONSGML v1.0//EN
CALSCALE:GREGORIAN
METHOD:PUBLISH
X-ORIGINAL-URL:https://sjretreatcenter.org
X-WR-CALDESC:Events for St. Joseph Retreat Center
REFRESH-INTERVAL;VALUE=DURATION:PT1H
X-Robots-Tag:noindex
X-PUBLISHED-TTL:PT1H
BEGIN:VTIMEZONE
TZID:America/New_York
BEGIN:DAYLIGHT
TZOFFSETFROM:-0500
TZOFFSETTO:-0400
TZNAME:EDT
DTSTART:20230312T070000
END:DAYLIGHT
BEGIN:STANDARD
TZOFFSETFROM:-0400
TZOFFSETTO:-0500
TZNAME:EST
DTSTART:20231105T060000
END:STANDARD
BEGIN:DAYLIGHT
TZOFFSETFROM:-0500
TZOFFSETTO:-0400
TZNAME:EDT
DTSTART:20240310T070000
END:DAYLIGHT
BEGIN:STANDARD
TZOFFSETFROM:-0400
TZOFFSETTO:-0500
TZNAME:EST
DTSTART:20241103T060000
END:STANDARD
BEGIN:DAYLIGHT
TZOFFSETFROM:-0500
TZOFFSETTO:-0400
TZNAME:EDT
DTSTART:20250309T070000
END:DAYLIGHT
BEGIN:STANDARD
TZOFFSETFROM:-0400
TZOFFSETTO:-0500
TZNAME:EST
DTSTART:20251102T060000
END:STANDARD
END:VTIMEZONE
BEGIN:VEVENT
DTSTART;TZID=America/New_York:20240301T164500
DTEND;TZID=America/New_York:20240303T140000
DTSTAMP:20260425T233437
CREATED:20240216T222342Z
LAST-MODIFIED:20240219T142245Z
UID:10000977-1709311500-1709474400@sjretreatcenter.org
SUMMARY:Lenten Silent\, Directed Retreat
DESCRIPTION:Fee : $200 For 3 days including meals \nPlease be aware that there are no overnight accommodations \nAs we journey through Lent\, consider taking an oasis pause along the way. This weekend will provide you with the time\, space and silence to enter more deeply into the heart of Jesus on his journey to Calvary. You will have the opportunity each day to celebrate the Eucharist \, meet with a spiritual director and spend time in reflection and prayer. \nFacilitators: Sr. Gerrie Contento\, MPF ; Ms. Pat Stephens; and Ms. Joann Caramanico.
URL:https://sjretreatcenter.org/event/lenten-silent-directed-retreat-2/
ATTACH;FMTTYPE=image/png:https://sjretreatcenter.org/wp-content/uploads/2024/02/F6958B96-B9AA-4F85-A7C9-A9232159304F.png
END:VEVENT
BEGIN:VEVENT
DTSTART;TZID=America/New_York:20240316T183000
DTEND;TZID=America/New_York:20240316T200000
DTSTAMP:20260425T233437
CREATED:20240206T151108Z
LAST-MODIFIED:20240219T142840Z
UID:10000976-1710613800-1710619200@sjretreatcenter.org
SUMMARY:Taize Service
DESCRIPTION:Facilitator Joann Caramanico
URL:https://sjretreatcenter.org/event/taize-service/
ATTACH;FMTTYPE=image/jpeg:https://sjretreatcenter.org/wp-content/uploads/2024/02/IMG_5252.jpg
END:VEVENT
END:VCALENDAR