BEGIN:VCALENDAR
VERSION:2.0
PRODID:-//St. Joseph Retreat Center - ECPv6.15.20//NONSGML v1.0//EN
CALSCALE:GREGORIAN
METHOD:PUBLISH
X-WR-CALNAME:St. Joseph Retreat Center
X-ORIGINAL-URL:https://sjretreatcenter.org
X-WR-CALDESC:Events for St. Joseph Retreat Center
REFRESH-INTERVAL;VALUE=DURATION:PT1H
X-Robots-Tag:noindex
X-PUBLISHED-TTL:PT1H
BEGIN:VTIMEZONE
TZID:America/New_York
BEGIN:DAYLIGHT
TZOFFSETFROM:-0500
TZOFFSETTO:-0400
TZNAME:EDT
DTSTART:20220313T070000
END:DAYLIGHT
BEGIN:STANDARD
TZOFFSETFROM:-0400
TZOFFSETTO:-0500
TZNAME:EST
DTSTART:20221106T060000
END:STANDARD
BEGIN:DAYLIGHT
TZOFFSETFROM:-0500
TZOFFSETTO:-0400
TZNAME:EDT
DTSTART:20230312T070000
END:DAYLIGHT
BEGIN:STANDARD
TZOFFSETFROM:-0400
TZOFFSETTO:-0500
TZNAME:EST
DTSTART:20231105T060000
END:STANDARD
BEGIN:DAYLIGHT
TZOFFSETFROM:-0500
TZOFFSETTO:-0400
TZNAME:EDT
DTSTART:20240310T070000
END:DAYLIGHT
BEGIN:STANDARD
TZOFFSETFROM:-0400
TZOFFSETTO:-0500
TZNAME:EST
DTSTART:20241103T060000
END:STANDARD
END:VTIMEZONE
BEGIN:VEVENT
DTSTART;TZID=America/New_York:20230220T180000
DTEND;TZID=America/New_York:20230220T200000
DTSTAMP:20260423T071824
CREATED:20221229T174854Z
LAST-MODIFIED:20230104T155218Z
UID:10000952-1676916000-1676923200@sjretreatcenter.org
SUMMARY:New Year – Truer You - PART 2 – Begin the New Year with Gratitude and Blessings
DESCRIPTION:Monday\, February 20th: PART 2 – Begin the New Year with Gratitude and Blessings\n\n\nFacilitated by Grace Conte\n6:00-8:00 PM\nFee: $35 per person/per session \n\n\nLearn to develop the ability to seek out the good as well as recognize when good is happening both to and through you. We’ll create an understanding of how to accept the good we receive through a whole\, integrated person response.
URL:https://sjretreatcenter.org/event/new-year-truer-you-part-2-begin-the-new-year-with-gratitude-and-blessings-2/
END:VEVENT
BEGIN:VEVENT
DTSTART;TZID=America/New_York:20230220T150000
DTEND;TZID=America/New_York:20230220T170000
DTSTAMP:20260423T071824
CREATED:20221229T174847Z
LAST-MODIFIED:20230104T155211Z
UID:10000951-1676905200-1676912400@sjretreatcenter.org
SUMMARY:New Year – Truer You - PART 2 – Begin the New Year with Gratitude and Blessings
DESCRIPTION:Monday\, February 20th: PART 2 – Begin the New Year with Gratitude and Blessings\n\n\nFacilitated by Grace Conte\n 3:00-5:00 PM\nFee: $35 per person/per session \n\n\nLearn to develop the ability to seek out the good as well as recognize when good is happening both to and through you. We’ll create an understanding of how to accept the good we receive through a whole\, integrated person response.
URL:https://sjretreatcenter.org/event/new-year-truer-you-part-2-begin-the-new-year-with-gratitude-and-blessings/
END:VEVENT
BEGIN:VEVENT
DTSTART;TZID=America/New_York:20230116T180000
DTEND;TZID=America/New_York:20230116T200000
DTSTAMP:20260423T071824
CREATED:20221229T174838Z
LAST-MODIFIED:20230104T152743Z
UID:10000950-1673892000-1673899200@sjretreatcenter.org
SUMMARY:New Year – Truer You - PART 1 - Creating Positive\, Lasting Change
DESCRIPTION:Monday\, January 16th: PART 1 – Creating Positive\, Lasting Change\n\n\nFacilitated by Grace Conte\n6:00-8:00 PM\nFee: $35 per person/per session \nOr pay in advance for all three sessions for $90\n\n\nLearn proven strategies to remove obstacles to some of our most ingrained habits and replace those unserving attitudes and beliefs with positive\, sustained tools for lasting change.\n\n\n\n 
URL:https://sjretreatcenter.org/event/new-year-truer-you-part-1-creating-positive-lasting-change-2/
END:VEVENT
BEGIN:VEVENT
DTSTART;TZID=America/New_York:20230116T150000
DTEND;TZID=America/New_York:20230116T170000
DTSTAMP:20260423T071824
CREATED:20221229T174709Z
LAST-MODIFIED:20230104T152734Z
UID:10000949-1673881200-1673888400@sjretreatcenter.org
SUMMARY:New Year – Truer You - PART 1 - Creating Positive\, Lasting Change
DESCRIPTION:Monday\, January 16th: PART 1 – Creating Positive\, Lasting Change\n\n\nFacilitated by Grace Conte\n 3:00-5:00 PM\nFee: $35 per person/per session \nOr pay in advance for all three sessions for $90\n\n\nLearn proven strategies to remove obstacles to some of our most ingrained habits and replace those unserving attitudes and beliefs with positive\, sustained tools for lasting change.\n\n\n\n 
URL:https://sjretreatcenter.org/event/new-year-truer-you-part-1-creating-positive-lasting-change/
END:VEVENT
END:VCALENDAR